BEGIN:VCALENDAR
VERSION:2.0
PRODID:-//wp-events-plugin.com//7.2.3.1//EN
TZID:Europe/London
X-WR-TIMEZONE:Europe/London
BEGIN:VEVENT
UID:93@aldbourne-band.co.uk
DTSTART;TZID=Europe/London:20200809T140000
DTEND;TZID=Europe/London:20200809T160000
DTSTAMP:20200103T221933Z
URL:https://aldbourne-band.co.uk/events/august-pond-on-the-green/
SUMMARY:August Pond on the Green
DESCRIPTION:We once again will have an afternoon of celebrations as part of
  Pond on the Green. The highlight of the day will be the Band playing a va
 ried programme with various support "acts".\n\nWe play a Last night of the
  Proms programme for the 2nd half.\n\nBring along your blankets and chairs
  and picnics and save room for our lovely cake store and other refreshment
 s in a fabulous venue !
ATTACH;FMTTYPE=image/jpeg:https://aldbourne-band.co.uk/wp-content/uploads/
 2018/08/PROM2018.jpg
CATEGORIES:Concert,Pond Concerts
LOCATION:The Square\, Aldbourne\, The Square\, Aldbourne\, Wiltshire\, Unit
 ed Kingdom
X-APPLE-STRUCTURED-LOCATION;VALUE=URI;X-ADDRESS=The Square\, Aldbourne\, Wi
 ltshire\, United Kingdom;X-APPLE-RADIUS=100;X-TITLE=The Square\, Aldbourne
 :geo:0,0
END:VEVENT
BEGIN:VTIMEZONE
TZID:Europe/London
X-LIC-LOCATION:Europe/London
BEGIN:DAYLIGHT
DTSTART:20200329T020000
TZOFFSETFROM:+0000
TZOFFSETTO:+0100
TZNAME:BST
END:DAYLIGHT
END:VTIMEZONE
END:VCALENDAR