BEGIN:VCALENDAR
VERSION:2.0
PRODID:-//wp-events-plugin.com//7.2.3.1//EN
TZID:Europe/London
X-WR-TIMEZONE:Europe/London
BEGIN:VEVENT
UID:40@aldbourne-band.co.uk
DTSTART;TZID=Europe/London:20181111T104500
DTEND;TZID=Europe/London:20181111T123000
DTSTAMP:20180312T201415Z
URL:https://aldbourne-band.co.uk/events/armistice-service-aldbourne/
SUMMARY:Armistice Service Aldbourne
DESCRIPTION:
ATTACH;FMTTYPE=image/jpeg:https://aldbourne-band.co.uk/wp-content/uploads/
 2016/09/band-logo-e1673359478853.png
CATEGORIES:Service
LOCATION:Aldbourne\, Memorial Hall\, Aldbourne\, United Kingdom
X-APPLE-STRUCTURED-LOCATION;VALUE=URI;X-ADDRESS=Memorial Hall\, Aldbourne\,
  United Kingdom;X-APPLE-RADIUS=100;X-TITLE=Aldbourne:geo:0,0
END:VEVENT
BEGIN:VTIMEZONE
TZID:Europe/London
X-LIC-LOCATION:Europe/London
BEGIN:STANDARD
DTSTART:20181028T010000
TZOFFSETFROM:+0100
TZOFFSETTO:+0000
TZNAME:GMT
END:STANDARD
END:VTIMEZONE
END:VCALENDAR