BEGIN:VCALENDAR
VERSION:2.0
PRODID:-//wp-events-plugin.com//7.2.3.1//EN
TZID:Europe/London
X-WR-TIMEZONE:Europe/London
BEGIN:VEVENT
UID:54@aldbourne-band.co.uk
DTSTART;TZID=Europe/London:20190406T170000
DTEND;TZID=Europe/London:20190406T210000
DTSTAMP:20190305T191854Z
URL:https://aldbourne-band.co.uk/events/aldbourne-spring-concert-a-celebra
 tion-of-english-music/
SUMMARY:Aldbourne Spring Concert  - A celebration of English Music
DESCRIPTION:This is shaping up to be a special concert with Folk music and 
 the music of Ralph Vaughan Williams featured.\n\nThere will be a pre-conce
 rt lecture  with Morris dancing at the Blue Boar and pre concert Refreshm
 ents.\n\n\n\nThe band will be joined by Jonathan Causebrook who will featu
 re songs he has recorded.\n\n\n\n\nRalph Vaughan Williams discovered folk 
 songs in Ramsbury in 1904\n\n\n\n\nThe band to play RVW music and other En
 glish folk tunes\n\n\n\n\n\nhttps://www.facebook.com/jonathan.causebrook\n
 \nTickets can be purchased here\n\nhttps://www.eventbrite.co.uk/e/an-eveni
 ng-of-english-music-tickets-56874045802
ATTACH;FMTTYPE=image/jpeg:https://aldbourne-band.co.uk/wp-content/uploads/
 2019/01/Aldbiourne-Band-2-cropped.jpg
CATEGORIES:Concert
LOCATION:St Michaels Church\, St Michaels Church\, Aldbourne\, Wiltshire\, 
 United Kingdom
X-APPLE-STRUCTURED-LOCATION;VALUE=URI;X-ADDRESS=St Michaels Church\, Aldbou
 rne\, Wiltshire\, United Kingdom;X-APPLE-RADIUS=100;X-TITLE=St Michaels Ch
 urch:geo:0,0
END:VEVENT
BEGIN:VTIMEZONE
TZID:Europe/London
X-LIC-LOCATION:Europe/London
BEGIN:DAYLIGHT
DTSTART:20190331T020000
TZOFFSETFROM:+0000
TZOFFSETTO:+0100
TZNAME:BST
END:DAYLIGHT
END:VTIMEZONE
END:VCALENDAR