BEGIN:VCALENDAR
VERSION:2.0
PRODID:-//wp-events-plugin.com//7.2.3.1//EN
TZID:Europe/London
X-WR-TIMEZONE:Europe/London
BEGIN:VEVENT
UID:71@aldbourne-band.co.uk
DTSTART;TZID=Europe/London:20191110T104500
DTEND;TZID=Europe/London:20191110T123000
DTSTAMP:20190210T230153Z
URL:https://aldbourne-band.co.uk/events/aldbourne-remembrance-parade-and-s
 ervice/
SUMMARY:Aldbourne Remembrance Parade and Service
DESCRIPTION:
ATTACH;FMTTYPE=image/jpeg:https://aldbourne-band.co.uk/wp-content/uploads/
 2019/01/Aldbiourne-Band-2-cropped.jpg
CATEGORIES:Service
LOCATION:Memorial Hall\, Memorial Hall\, Aldbourne\, United Kingdom
X-APPLE-STRUCTURED-LOCATION;VALUE=URI;X-ADDRESS=Memorial Hall\, Aldbourne\,
  United Kingdom;X-APPLE-RADIUS=100;X-TITLE=Memorial Hall:geo:0,0
END:VEVENT
BEGIN:VTIMEZONE
TZID:Europe/London
X-LIC-LOCATION:Europe/London
BEGIN:STANDARD
DTSTART:20191027T010000
TZOFFSETFROM:+0100
TZOFFSETTO:+0000
TZNAME:GMT
END:STANDARD
END:VTIMEZONE
END:VCALENDAR