BEGIN:VCALENDAR
VERSION:2.0
PRODID:-//wp-events-plugin.com//7.2.3.1//EN
TZID:Europe/London
X-WR-TIMEZONE:Europe/London
BEGIN:VEVENT
UID:64@aldbourne-band.co.uk
DTSTART;TZID=Europe/London:20190727T190000
DTEND;TZID=Europe/London:20190727T200000
DTSTAMP:20190210T224707Z
URL:https://aldbourne-band.co.uk/events/aldbourne-music-song-festival-padd
 ling-dabchicks-show-band/
SUMMARY:Aldbourne Music Song Festival - Paddling Dabchicks Show Band
DESCRIPTION:We are pleased once again to be showcasing the Paddling Dabchic
 ks ShowBand as part of the Music and Song Festival
ATTACH;FMTTYPE=image/jpeg:https://aldbourne-band.co.uk/wp-content/uploads/
 2019/01/paddling2-1024x768.jpeg
CATEGORIES:Concert
LOCATION:The Square\, Aldbourne\, The Square\, Aldbourne\, Wiltshire\, Unit
 ed Kingdom
X-APPLE-STRUCTURED-LOCATION;VALUE=URI;X-ADDRESS=The Square\, Aldbourne\, Wi
 ltshire\, United Kingdom;X-APPLE-RADIUS=100;X-TITLE=The Square\, Aldbourne
 :geo:0,0
END:VEVENT
BEGIN:VTIMEZONE
TZID:Europe/London
X-LIC-LOCATION:Europe/London
BEGIN:DAYLIGHT
DTSTART:20190331T020000
TZOFFSETFROM:+0000
TZOFFSETTO:+0100
TZNAME:BST
END:DAYLIGHT
END:VTIMEZONE
END:VCALENDAR