BEGIN:VCALENDAR
VERSION:2.0
PRODID:-//wp-events-plugin.com//7.2.3.1//EN
TZID:Europe/London
X-WR-TIMEZONE:Europe/London
BEGIN:VEVENT
UID:116@aldbourne-band.co.uk
DTSTART;TZID=Europe/London:20220722T190000
DTEND;TZID=Europe/London:20220722T190000
DTSTAMP:20220405T215712Z
URL:https://aldbourne-band.co.uk/events/aldbourne-memorial-hall-centenary-
 concert/
SUMMARY:Aldbourne Memorial Hall Centenary Concert
DESCRIPTION:
ATTACH;FMTTYPE=image/jpeg:https://aldbourne-band.co.uk/wp-content/uploads/
 2021/09/Band-1.jpg
CATEGORIES:Concert,Pond Concerts
LOCATION:Memorial Hall\, Memorial Hall\, Aldbourne\, United Kingdom
X-APPLE-STRUCTURED-LOCATION;VALUE=URI;X-ADDRESS=Memorial Hall\, Aldbourne\,
  United Kingdom;X-APPLE-RADIUS=100;X-TITLE=Memorial Hall:geo:0,0
END:VEVENT
BEGIN:VTIMEZONE
TZID:Europe/London
X-LIC-LOCATION:Europe/London
BEGIN:DAYLIGHT
DTSTART:20220327T020000
TZOFFSETFROM:+0000
TZOFFSETTO:+0100
TZNAME:BST
END:DAYLIGHT
END:VTIMEZONE
END:VCALENDAR