BEGIN:VCALENDAR
VERSION:2.0
PRODID:-//wp-events-plugin.com//7.2.3.1//EN
TZID:Europe/London
X-WR-TIMEZONE:Europe/London
BEGIN:VEVENT
UID:32@aldbourne-band.co.uk
DTSTART;TZID=Europe/London:20180630T140000
DTEND;TZID=Europe/London:20180630T160000
DTSTAMP:20180628T190601Z
URL:https://aldbourne-band.co.uk/events/aldbourne-church-fete-youth-and-se
 nior-band/
SUMMARY:Aldbourne Church Fete - Ensemble
DESCRIPTION:Come and join us for an afternoon of fun and music at the Annua
 l Aldbourne Fete. Sample a traditional British Fete on the Green with all 
 that goes with it including Cream Teas !
ATTACH;FMTTYPE=image/jpeg:https://aldbourne-band.co.uk/wp-content/uploads/
 2016/09/ChurchFete2014_youthband.jpg
CATEGORIES:Fete
LOCATION:The Square\, Aldbourne\, The Square\, Aldbourne\, Wiltshire\, Unit
 ed Kingdom
X-APPLE-STRUCTURED-LOCATION;VALUE=URI;X-ADDRESS=The Square\, Aldbourne\, Wi
 ltshire\, United Kingdom;X-APPLE-RADIUS=100;X-TITLE=The Square\, Aldbourne
 :geo:0,0
END:VEVENT
BEGIN:VTIMEZONE
TZID:Europe/London
X-LIC-LOCATION:Europe/London
BEGIN:DAYLIGHT
DTSTART:20180325T020000
TZOFFSETFROM:+0000
TZOFFSETTO:+0100
TZNAME:BST
END:DAYLIGHT
END:VTIMEZONE
END:VCALENDAR