BEGIN:VCALENDAR
VERSION:2.0
PRODID:-//wp-events-plugin.com//7.2.3.1//EN
TZID:Europe/London
X-WR-TIMEZONE:Europe/London
BEGIN:VEVENT
UID:95@aldbourne-band.co.uk
DTSTART;TZID=Europe/London:20200905T170000
DTEND;TZID=Europe/London:20200905T170000
DTSTAMP:20200103T222929Z
URL:https://aldbourne-band.co.uk/events/aldbourne-carnival-2/
SUMMARY:Aldbourne Carnival
DESCRIPTION:The Band being the vilage Band that it is will lead the carniva
 l !
ATTACH;FMTTYPE=image/jpeg:https://aldbourne-band.co.uk/wp-content/uploads/
 2020/01/whit.jpg
CATEGORIES:March
LOCATION:The Square\, Aldbourne\, The Square\, Aldbourne\, Wiltshire\, Unit
 ed Kingdom
X-APPLE-STRUCTURED-LOCATION;VALUE=URI;X-ADDRESS=The Square\, Aldbourne\, Wi
 ltshire\, United Kingdom;X-APPLE-RADIUS=100;X-TITLE=The Square\, Aldbourne
 :geo:0,0
END:VEVENT
BEGIN:VTIMEZONE
TZID:Europe/London
X-LIC-LOCATION:Europe/London
BEGIN:DAYLIGHT
DTSTART:20200329T020000
TZOFFSETFROM:+0000
TZOFFSETTO:+0100
TZNAME:BST
END:DAYLIGHT
END:VTIMEZONE
END:VCALENDAR