BEGIN:VCALENDAR
VERSION:2.0
PRODID:-//wp-events-plugin.com//7.2.3.1//EN
TZID:Europe/London
X-WR-TIMEZONE:Europe/London
BEGIN:VEVENT
UID:52@aldbourne-band.co.uk
DTSTART;TZID=Europe/London:20190126T190000
DTEND;TZID=Europe/London:20190126T213000
DTSTAMP:20190125T223615Z
URL:https://aldbourne-band.co.uk/events/aldbourne-band-upham-road-concert/
SUMMARY:Aldbourne Band Upham Road Concert
DESCRIPTION:\n\nBritish Open Qualifiers\, Aldbourne Band are once again ple
 ased to be playing at the Upham Road Church. We have a whole new Programme
  lined up for 2019 and look forward to playing at this great venue. We wil
 l be conducted by our Musical Director Glyn Williams Tickets are available
  on the door
ATTACH;FMTTYPE=image/jpeg:https://aldbourne-band.co.uk/wp-content/uploads/
 2018/09/Band-church-cropped.jpg
CATEGORIES:Concert
LOCATION:Immanuel Church\, Upham Rd\, Swindon\, Wiltshire\, SN3 1DH\, Unite
 d Kingdom
X-APPLE-STRUCTURED-LOCATION;VALUE=URI;X-ADDRESS=Upham Rd\, Swindon\, Wiltsh
 ire\, SN3 1DH\, United Kingdom;X-APPLE-RADIUS=100;X-TITLE=Immanuel Church:
 geo:0,0
END:VEVENT
BEGIN:VTIMEZONE
TZID:Europe/London
X-LIC-LOCATION:Europe/London
BEGIN:STANDARD
DTSTART:20181028T010000
TZOFFSETFROM:+0100
TZOFFSETTO:+0000
TZNAME:GMT
END:STANDARD
END:VTIMEZONE
END:VCALENDAR