BEGIN:VCALENDAR
VERSION:2.0
PRODID:-//wp-events-plugin.com//7.2.3.1//EN
TZID:Europe/London
X-WR-TIMEZONE:Europe/London
BEGIN:VEVENT
UID:105@aldbourne-band.co.uk
DTSTART;TZID=Europe/London:20211211T160000
DTEND;TZID=Europe/London:20211211T190000
DTSTAMP:20210906T082524Z
URL:https://aldbourne-band.co.uk/events/aldbourne-band-christmas-concert-2
 /
SUMMARY:Aldbourne Band Christmas Concert
DESCRIPTION:The Band is holding their own Christmas Concert in St Michaels 
 Church. All are welcome
ATTACH;FMTTYPE=image/jpeg:https://aldbourne-band.co.uk/wp-content/uploads/
 2019/02/dalek.jpg
CATEGORIES:Carol Service,Christmas Concert,Concert
LOCATION:St Michaels Church\, St Michaels Church\, Aldbourne\, Wiltshire\, 
 United Kingdom
X-APPLE-STRUCTURED-LOCATION;VALUE=URI;X-ADDRESS=St Michaels Church\, Aldbou
 rne\, Wiltshire\, United Kingdom;X-APPLE-RADIUS=100;X-TITLE=St Michaels Ch
 urch:geo:0,0
END:VEVENT
BEGIN:VTIMEZONE
TZID:Europe/London
X-LIC-LOCATION:Europe/London
BEGIN:STANDARD
DTSTART:20211031T010000
TZOFFSETFROM:+0100
TZOFFSETTO:+0000
TZNAME:GMT
END:STANDARD
END:VTIMEZONE
END:VCALENDAR