BEGIN:VCALENDAR
VERSION:2.0
PRODID:-//wp-events-plugin.com//7.2.3.1//EN
TZID:Europe/London
X-WR-TIMEZONE:Europe/London
BEGIN:VEVENT
UID:58@aldbourne-band.co.uk
DTSTART;TZID=Europe/London:20190517T200000
DTEND;TZID=Europe/London:20190517T220000
DTSTAMP:20190507T175901Z
URL:https://aldbourne-band.co.uk/events/aldbourne-band-annual-general-meet
 ing/
SUMMARY:Aldbourne Band Annual General Meeting
DESCRIPTION:
ATTACH;FMTTYPE=image/jpeg:https://aldbourne-band.co.uk/wp-content/uploads/
 2018/09/G85_3764.jpg
CATEGORIES:AGM
LOCATION:Aldbourne\, Memorial Hall\, Aldbourne\, United Kingdom
X-APPLE-STRUCTURED-LOCATION;VALUE=URI;X-ADDRESS=Memorial Hall\, Aldbourne\,
  United Kingdom;X-APPLE-RADIUS=100;X-TITLE=Aldbourne:geo:0,0
END:VEVENT
BEGIN:VTIMEZONE
TZID:Europe/London
X-LIC-LOCATION:Europe/London
BEGIN:DAYLIGHT
DTSTART:20190331T020000
TZOFFSETFROM:+0000
TZOFFSETTO:+0100
TZNAME:BST
END:DAYLIGHT
END:VTIMEZONE
END:VCALENDAR