BEGIN:VCALENDAR
VERSION:2.0
PRODID:-//wp-events-plugin.com//7.2.3.1//EN
TZID:Europe/London
X-WR-TIMEZONE:Europe/London
BEGIN:VEVENT
UID:139@aldbourne-band.co.uk
DTSTART;TZID=Europe/London:20240510T193000
DTEND;TZID=Europe/London:20240510T220000
DTSTAMP:20240417T165635Z
URL:https://aldbourne-band.co.uk/events/aldbourne-band-and-door-samenwerki
 ng-sterk-fanfare-orchestra/
SUMMARY:Aldbourne Band and Door Samenwerking Sterk Fanfare Orchestra
DESCRIPTION:&#x1f4e3\;&#x1f929\;NOT TO BE MISSED! &#x1f929\;&#x1f4e3\;\n\n&
 #x1f3ba\;Aldbourne Band are very excited to announce a joint concert with 
 the brilliant Muziekvereniging Door Samenwerking Sterk Fanfare Orchestra f
 rom The Netherlands! &#x1f1f3\;&#x1f1f1\;\n\n&#x1f3b6\;Rarely heard in thi
 s country\, this will be a unique experience to hear an award-winning Fanf
 are Orchestra (consisting of brass and saxophones) alongside one of the co
 untry's top brass bands!\n\n&#x1f440\;More details coming soon! Keep an ey
 e on our social media and website www.aldbourneband.org.uk.\n\n&#x1f4c5\;F
 riday 10th May in the Great Western Hall\, STEAM - Museum of the GWR\n&#x1
 f39f\;Tickets - Adults £15\, Under 16s go free\n\n#Dabchicks #UKandNL #br
 assband #fanfareorchestra #musicinWiltshire\n\n\n\n
ATTACH;FMTTYPE=image/jpeg:https://aldbourne-band.co.uk/wp-content/uploads/
 2024/03/Fanfare-concert-QR-code.jpg
CATEGORIES:Concert
LOCATION:Steam\, Great Western Hall\, Steam Museum\, Swindon \, Wiltshire\,
  SN2 2EY\, United Kingdom
X-APPLE-STRUCTURED-LOCATION;VALUE=URI;X-ADDRESS=Great Western Hall\, Steam 
 Museum\, Swindon \, Wiltshire\, SN2 2EY\, United Kingdom;X-APPLE-RADIUS=10
 0;X-TITLE=Steam:geo:0,0
END:VEVENT
BEGIN:VTIMEZONE
TZID:Europe/London
X-LIC-LOCATION:Europe/London
BEGIN:DAYLIGHT
DTSTART:20240331T020000
TZOFFSETFROM:+0000
TZOFFSETTO:+0100
TZNAME:BST
END:DAYLIGHT
END:VTIMEZONE
END:VCALENDAR