BEGIN:VCALENDAR
VERSION:2.0
PRODID:-//wp-events-plugin.com//7.2.3.1//EN
TZID:Europe/London
X-WR-TIMEZONE:Europe/London
BEGIN:VEVENT
UID:63@aldbourne-band.co.uk
DTSTART;TZID=Europe/London:20190713T190000
DTEND;TZID=Europe/London:20190713T213000
DTSTAMP:20190210T224457Z
URL:https://aldbourne-band.co.uk/events/aldbourne-band-15-piece-grange-par
 k-opera/
SUMMARY:Aldbourne Band 15 piece Grange Park Opera
DESCRIPTION:A fifteen piece from Adlbourne Band will be performing at the G
 range Park Opera Venue
ATTACH;FMTTYPE=image/jpeg:https://aldbourne-band.co.uk/wp-content/uploads/
 2019/01/Aldbiourne-Band-2-cropped.jpg
CATEGORIES:Concert
LOCATION:West Horsley Place\, Epsom Road\, West Horsley\, Surrey\, KT24 6AN
 \, United Kingdom
X-APPLE-STRUCTURED-LOCATION;VALUE=URI;X-ADDRESS=Epsom Road\, West Horsley\,
  Surrey\, KT24 6AN\, United Kingdom;X-APPLE-RADIUS=100;X-TITLE=West Horsle
 y Place:geo:0,0
END:VEVENT
BEGIN:VTIMEZONE
TZID:Europe/London
X-LIC-LOCATION:Europe/London
BEGIN:DAYLIGHT
DTSTART:20190331T020000
TZOFFSETFROM:+0000
TZOFFSETTO:+0100
TZNAME:BST
END:DAYLIGHT
END:VTIMEZONE
END:VCALENDAR