BEGIN:VCALENDAR
VERSION:2.0
PRODID:-//wp-events-plugin.com//7.2.3.1//EN
TZID:Europe/London
X-WR-TIMEZONE:Europe/London
BEGIN:VEVENT
UID:45@aldbourne-band.co.uk
DTSTART;TZID=Europe/London:20180524T200000
DTEND;TZID=Europe/London:20180524T213000
DTSTAMP:20180523T072837Z
URL:https://aldbourne-band.co.uk/events/agm/
SUMMARY:AGM
DESCRIPTION: Been held at the Methodist chapel\, Aldbourne  at 8 PM
CATEGORIES:AGM
LOCATION:Methodist Chapel\, Methodist Chapel\, Aldbourne\, Wiltshire \, Uni
 ted Kingdom
X-APPLE-STRUCTURED-LOCATION;VALUE=URI;X-ADDRESS=Methodist Chapel\, Aldbourn
 e\, Wiltshire \, United Kingdom;X-APPLE-RADIUS=100;X-TITLE=Methodist Chape
 l:geo:0,0
END:VEVENT
BEGIN:VTIMEZONE
TZID:Europe/London
X-LIC-LOCATION:Europe/London
BEGIN:DAYLIGHT
DTSTART:20180325T020000
TZOFFSETFROM:+0000
TZOFFSETTO:+0100
TZNAME:BST
END:DAYLIGHT
END:VTIMEZONE
END:VCALENDAR