BEGIN:VCALENDAR
VERSION:2.0
PRODID:-//wp-events-plugin.com//7.2.3.1//EN
TZID:Europe/London
X-WR-TIMEZONE:Europe/London
BEGIN:VEVENT
UID:152@aldbourne-band.co.uk
DTSTART;TZID=Europe/London:20250531T110000
DTEND;TZID=Europe/London:20250531T170000
DTSTAMP:20250520T155952Z
URL:https://aldbourne-band.co.uk/events/2394/
SUMMARY:Wallace & Gromit: The Wrong Trousers
DESCRIPTION:&nbsp\;\n\nEveryone’s favourite cheese-loving duo will be arr
 iving at STEAM Museum\, with a live performance of Wallace &amp\; Gromit: 
 The Wrong Trousers\, with live music by Aldbourne Band!\n\n&nbsp\;\n\n\n\n
 Following the success of The Snowman in Concert over Christmas last year\,
  Aldbourne Band will be back but this time to perform the soundtrack to th
 e inventing duo’s 1993 British classic\, which saw the debut of fan favo
 urite villain Feathers McGraw.\n\nTaking place at the museum on Saturday 3
 1st May 2025\, the band will perform the music as attendees settle in to w
 atch the Oscar winning short film on the big screen\, set amongst the muse
 um’s incredible exhibitions.\n\nThe Aldbourne Band are a fantastic local
  organisation and they’ll provide the amazing soundtrack to really immer
 se visitors into the movie.\n\nThere will be two performances on the day\,
  one at 11am and one at 3pm.\n\n&nbsp\;\n\nBook your tickets here:\n\nhttp
 s://www.steam-museum.org.uk/event/wallace-gromit-the-wrong-trousers-live/
ATTACH;FMTTYPE=image/jpeg:https://aldbourne-band.co.uk/wp-content/uploads/
 2025/05/Poster-WG-new-colour-copy-compressed.png
CATEGORIES:Concert
LOCATION:Steam\, Great Western Hall\, Steam Museum\, Swindon \, Wiltshire\,
  SN2 2EY\, United Kingdom
X-APPLE-STRUCTURED-LOCATION;VALUE=URI;X-ADDRESS=Great Western Hall\, Steam 
 Museum\, Swindon \, Wiltshire\, SN2 2EY\, United Kingdom;X-APPLE-RADIUS=10
 0;X-TITLE=Steam:geo:0,0
END:VEVENT
BEGIN:VTIMEZONE
TZID:Europe/London
X-LIC-LOCATION:Europe/London
BEGIN:DAYLIGHT
DTSTART:20250330T020000
TZOFFSETFROM:+0000
TZOFFSETTO:+0100
TZNAME:BST
END:DAYLIGHT
END:VTIMEZONE
END:VCALENDAR